BEGIN:VCALENDAR
VERSION:2.0
PRODID:-//The Network - ECPv6.0.13.1//NONSGML v1.0//EN
CALSCALE:GREGORIAN
METHOD:PUBLISH
X-WR-CALNAME:The Network
X-ORIGINAL-URL:https://thenetwork.lu
X-WR-CALDESC:Events for The Network
REFRESH-INTERVAL;VALUE=DURATION:PT1H
X-Robots-Tag:noindex
X-PUBLISHED-TTL:PT1H
BEGIN:VTIMEZONE
TZID:Europe/Luxembourg
BEGIN:DAYLIGHT
TZOFFSETFROM:+0100
TZOFFSETTO:+0200
TZNAME:CEST
DTSTART:20260329T010000
END:DAYLIGHT
BEGIN:STANDARD
TZOFFSETFROM:+0200
TZOFFSETTO:+0100
TZNAME:CET
DTSTART:20261025T010000
END:STANDARD
END:VTIMEZONE
BEGIN:VEVENT
DTSTART;TZID=Europe/Luxembourg:20260518T180000
DTEND;TZID=Europe/Luxembourg:20260617T210000
DTSTAMP:20260424T204830
CREATED:20260208T100716Z
LAST-MODIFIED:20260310T184517Z
UID:7521-1779127200-1781730000@thenetwork.lu
SUMMARY:May 2026: Mind Matters
DESCRIPTION:Understanding mental health in today’s world. \nDate and further information to come soon!
URL:https://thenetwork.lu/event/may-2026-mind-matters/
ATTACH;FMTTYPE=image/png:https://thenetwork.lu/wp-content/uploads/2026/02/Website-eventbrite-2026-7.png
END:VEVENT
BEGIN:VEVENT
DTSTART;TZID=Europe/Luxembourg:20260615T180000
DTEND;TZID=Europe/Luxembourg:20260714T210000
DTSTAMP:20260424T204830
CREATED:20260208T101008Z
LAST-MODIFIED:20260310T184622Z
UID:7524-1781546400-1784062800@thenetwork.lu
SUMMARY:June 2026: Inclusive Leadership
DESCRIPTION:Advancing women during Pride month. \nDate and details to come soon!
URL:https://thenetwork.lu/event/june-2026-inclusive-leadership/
ATTACH;FMTTYPE=image/png:https://thenetwork.lu/wp-content/uploads/2026/02/Website-eventbrite-2026-8.png
END:VEVENT
BEGIN:VEVENT
DTSTART;TZID=Europe/Luxembourg:20260701T080000
DTEND;TZID=Europe/Luxembourg:20260701T170000
DTSTAMP:20260424T204830
CREATED:20260208T101308Z
LAST-MODIFIED:20260208T101308Z
UID:7527-1782892800-1782925200@thenetwork.lu
SUMMARY:July 2026: Summer Drinks
DESCRIPTION:Date and details to come soon!
URL:https://thenetwork.lu/event/july-2026-summer-drinks/
ATTACH;FMTTYPE=image/png:https://thenetwork.lu/wp-content/uploads/2026/02/Website-eventbrite-2026-9.png
END:VEVENT
BEGIN:VEVENT
DTSTART;TZID=Europe/Luxembourg:20260901T080000
DTEND;TZID=Europe/Luxembourg:20260901T170000
DTSTAMP:20260424T204830
CREATED:20260208T101515Z
LAST-MODIFIED:20260208T101746Z
UID:7530-1788249600-1788282000@thenetwork.lu
SUMMARY:September 2026: Wealth & Wisdom
DESCRIPTION:Women on the path to financial indepedence. \nMore information and exact date to come soon!
URL:https://thenetwork.lu/event/september-2026-wealth-wisdom/
ATTACH;FMTTYPE=image/png:https://thenetwork.lu/wp-content/uploads/2026/02/Website-eventbrite-2026-10.png
END:VEVENT
BEGIN:VEVENT
DTSTART;TZID=Europe/Luxembourg:20261001T080000
DTEND;TZID=Europe/Luxembourg:20261001T170000
DTSTAMP:20260424T204830
CREATED:20260208T102258Z
LAST-MODIFIED:20260208T102258Z
UID:7538-1790841600-1790874000@thenetwork.lu
SUMMARY:October 2026: Entrepreneuship
DESCRIPTION:Navigating challenges and overcoming obstacles. \nMore details and confirmation date to come soon!
URL:https://thenetwork.lu/event/october-2026-entrepreneuship/
ATTACH;FMTTYPE=image/png:https://thenetwork.lu/wp-content/uploads/2026/02/Website-eventbrite-2026-11.png
END:VEVENT
BEGIN:VEVENT
DTSTART;TZID=Europe/Luxembourg:20261101T080000
DTEND;TZID=Europe/Luxembourg:20261101T170000
DTSTAMP:20260424T204830
CREATED:20260208T101910Z
LAST-MODIFIED:20260208T102102Z
UID:7534-1793520000-1793552400@thenetwork.lu
SUMMARY:November 2026: Be hard to be heard - Speaking in public
DESCRIPTION:More information and date to come soon!
URL:https://thenetwork.lu/event/november-2026-be-hard-to-be-heard-speaking-in-public/
ATTACH;FMTTYPE=image/png:https://thenetwork.lu/wp-content/uploads/2026/02/Website-eventbrite-2026-12.png
END:VEVENT
END:VCALENDAR