BEGIN:VCALENDAR
VERSION:2.0
PRODID:-//The NETWORK - ECPv4.6.17//NONSGML v1.0//EN
CALSCALE:GREGORIAN
METHOD:PUBLISH
X-WR-CALNAME:The NETWORK
X-ORIGINAL-URL:https://thenetwork.lu
X-WR-CALDESC:Events for The NETWORK
BEGIN:VEVENT
DTSTART;TZID=Europe/Luxembourg:20181121T190000
DTEND;TZID=Europe/Luxembourg:20181121T220000
DTSTAMP:20180701T044343
CREATED:20171201T193928Z
LAST-MODIFIED:20171218T143000Z
UID:733-1542826800-1542837600@thenetwork.lu
SUMMARY:Lessons in Life: Failure to Success
DESCRIPTION:“It is impossible to live without failing at something\, unless you live so cautiously that you might as well not have lived at all\, in which case you have failed by default.” J.K. Rowling’s insight inspires us to get up\, dust ourselves off and move on when we fall down. \n
URL:https://thenetwork.lu/event/lessons-in-life-failure-to-success/
LOCATION:12 Boulevard Royal\, Luxembourg\, 2449\, Luxembourg
CATEGORIES:Individual
END:VEVENT
END:VCALENDAR