BEGIN:VCALENDAR
VERSION:2.0
PRODID:-//The NETWORK - ECPv4.6.17//NONSGML v1.0//EN
CALSCALE:GREGORIAN
METHOD:PUBLISH
X-WR-CALNAME:The NETWORK
X-ORIGINAL-URL:https://thenetwork.lu
X-WR-CALDESC:Events for The NETWORK
BEGIN:VEVENT
DTSTART;TZID=Europe/Luxembourg:20180711T190000
DTEND;TZID=Europe/Luxembourg:20180711T220000
DTSTAMP:20180701T043944
CREATED:20171201T185221Z
LAST-MODIFIED:20180328T091713Z
UID:724-1531335600-1531346400@thenetwork.lu
SUMMARY:Focus and Concentration
DESCRIPTION:Open plan environments\, constant internal and external noise\, hectic lifestyle\, personal turmoil – they all make it hard to concentrate and focus throughout the day. \nWe are delighted to welcome: \n\nIrina Derbina-Karotom (Retired Professional Ice Skater)\, and\nVirginia Anderson (Retired Professional Basketball Player)\n\nto share their experiences as professional athletes. As business women today\, they will and show us how they have profited from their sports background to achieve their current goals. \nJoin us for an interactive and experiential journey through the world of sports athletes. The workshop will teach you to focus and concentrate whilst performing in stressful or disruptive environments. It will also help you find your internal resources and motivation to push away distractions and direct energy to important issues. \nThis is the last The NETWORK event before the summer and it will be followed by the traditional Networking Summer Drinks. \n
URL:https://thenetwork.lu/event/focus-concentration/
CATEGORIES:Social
END:VEVENT
END:VCALENDAR