BEGIN:VCALENDAR
VERSION:2.0
PRODID:-//The NETWORK - ECPv4.6.17//NONSGML v1.0//EN
CALSCALE:GREGORIAN
METHOD:PUBLISH
X-WR-CALNAME:The NETWORK
X-ORIGINAL-URL:https://thenetwork.lu
X-WR-CALDESC:Events for The NETWORK
BEGIN:VEVENT
DTSTART;TZID=Europe/Luxembourg:20181017T190000
DTEND;TZID=Europe/Luxembourg:20181017T220000
DTSTAMP:20180701T044249
CREATED:20171201T192350Z
LAST-MODIFIED:20180305T192050Z
UID:728-1539802800-1539813600@thenetwork.lu
SUMMARY:A Confident You!
DESCRIPTION:Put your best foot forward\, hold up your head and make an impact! \nHow many times have you heard the words ”Have confidence!”? Or “Be confident!” \nIt’s one of the most essential pieces of advice you’ll receive in life that makes no sense if you don’t have it. There’s no magic wand that will make you 100% confident overnight\, but if you work at it\, it can pay off. \nAmy Amann & Florence Lemeer-Wintigens will share tips and personal experiences to help you to conveys to others what you are good at and the value you provide and the steps you can take to become: A Confident You! \nBeing in Control \nAmy Amann \nYou want to feel self-assured and empowered in driving your career and life forward. You want to navigate your professional journey with inner confidence and professional skills. We will take some time for you to find and gain control of your inner confidence compass\, and set clear strategies to master those important situations. You will find that you can pursue your goals aligned to yourself and with utter belief in your abilities. \nThe wow factor \nFlorence Lemeer-Wintigens \nMuch of how our mind works can be affected by what our body is saying. If you’ve never taken steps to assess and improve your wardrobe\, you may not realise the dramatic effect it can have on your confidence level. Everything from the style of your blouse to the colour of your glasses frames affects how people view you. When how you dress is in sync with how you want people to view you\, confidence can easily follow. \nFlorence will offer tips and advice on how you can dress for to leave the confident impression you want. \nThis is the third of our 3-part series on Professional Development. We are thankful to our hosts\, Badenoch & Clark\, for extending use of their lovely office and reception area.  \n
URL:https://thenetwork.lu/event/a-confident-you/
CATEGORIES:Individual
END:VEVENT
END:VCALENDAR